BEGIN:VCALENDAR
VERSION:2.0
PRODID:-//Indianapolis Hosta Society - ECPv6.15.20//NONSGML v1.0//EN
CALSCALE:GREGORIAN
METHOD:PUBLISH
X-WR-CALNAME:Indianapolis Hosta Society
X-ORIGINAL-URL:https://indianapolishostasociety.org
X-WR-CALDESC:Events for Indianapolis Hosta Society
REFRESH-INTERVAL;VALUE=DURATION:PT1H
X-Robots-Tag:noindex
X-PUBLISHED-TTL:PT1H
BEGIN:VTIMEZONE
TZID:UTC
BEGIN:STANDARD
TZOFFSETFROM:+0000
TZOFFSETTO:+0000
TZNAME:UTC
DTSTART:20230101T000000
END:STANDARD
END:VTIMEZONE
BEGIN:VEVENT
DTSTART;TZID=UTC:20241208T130000
DTEND;TZID=UTC:20241208T170000
DTSTAMP:20260424T232259
CREATED:20231220T020917Z
LAST-MODIFIED:20240117T190738Z
UID:278-1733662800-1733677200@indianapolishostasociety.org
SUMMARY:Monthly Meeting
DESCRIPTION:Holiday Gathering \n\n\n\nOur annual end-of-year gathering including a fabulous pitch-in buffet of members favorite foods\, annual awards\, and\, of course\, Hosto.
URL:https://indianapolishostasociety.org/event/monthly-meeting-8/
LOCATION:Coxhall Gardens\, Coxhall Gardens 11677 Towne Rd\, Carmel\, 46032\, United States
CATEGORIES:Holiday banquet
ATTACH;FMTTYPE=image/jpeg:https://indianapolishostasociety.org/wp-content/uploads/2024/01/IMG_0331_reduced-1.jpg
END:VEVENT
END:VCALENDAR