BEGIN:VCALENDAR
VERSION:2.0
PRODID:-//Indianapolis Hosta Society - ECPv6.15.20//NONSGML v1.0//EN
CALSCALE:GREGORIAN
METHOD:PUBLISH
X-WR-CALNAME:Indianapolis Hosta Society
X-ORIGINAL-URL:https://indianapolishostasociety.org
X-WR-CALDESC:Events for Indianapolis Hosta Society
REFRESH-INTERVAL;VALUE=DURATION:PT1H
X-Robots-Tag:noindex
X-PUBLISHED-TTL:PT1H
BEGIN:VTIMEZONE
TZID:America/Indiana/Indianapolis
BEGIN:DAYLIGHT
TZOFFSETFROM:-0500
TZOFFSETTO:-0400
TZNAME:EDT
DTSTART:20240310T070000
END:DAYLIGHT
BEGIN:STANDARD
TZOFFSETFROM:-0400
TZOFFSETTO:-0500
TZNAME:EST
DTSTART:20241103T060000
END:STANDARD
BEGIN:DAYLIGHT
TZOFFSETFROM:-0500
TZOFFSETTO:-0400
TZNAME:EDT
DTSTART:20250309T070000
END:DAYLIGHT
BEGIN:STANDARD
TZOFFSETFROM:-0400
TZOFFSETTO:-0500
TZNAME:EST
DTSTART:20251102T060000
END:STANDARD
BEGIN:DAYLIGHT
TZOFFSETFROM:-0500
TZOFFSETTO:-0400
TZNAME:EDT
DTSTART:20260308T070000
END:DAYLIGHT
BEGIN:STANDARD
TZOFFSETFROM:-0400
TZOFFSETTO:-0500
TZNAME:EST
DTSTART:20261101T060000
END:STANDARD
END:VTIMEZONE
BEGIN:VEVENT
DTSTART;TZID=America/Indiana/Indianapolis:20251207T130000
DTEND;TZID=America/Indiana/Indianapolis:20251207T170000
DTSTAMP:20260423T185724
CREATED:20250318T122747Z
LAST-MODIFIED:20251112T221225Z
UID:897-1765112400-1765126800@indianapolishostasociety.org
SUMMARY:December Holiday Party
DESCRIPTION:Holiday Gathering \n\n\n\nThe annual holiday party will be the final event of the year\, and will be held at the Coxhall Gardens Mansion. We will enjoy a festive pitch-in with members bringing their favorite dish to share. There will be games\, games\, and games with loads of fabulous prizes. There may even be a few special hostas to be won\, and who doesn’t want more Hosta varieties! This is a time to come and visit with fellow members\, enjoy delectable food\, and share in the holiday spirit with Hosta friends!
URL:https://indianapolishostasociety.org/event/holiday-party/
LOCATION:Coxhall Gardens\, Coxhall Gardens 11677 Towne Rd\, Carmel\, 46032\, United States
CATEGORIES:Holiday banquet
ATTACH;FMTTYPE=image/jpeg:https://indianapolishostasociety.org/wp-content/uploads/2024/01/IMG_0331_reduced.jpg
END:VEVENT
END:VCALENDAR