BEGIN:VCALENDAR
VERSION:2.0
PRODID:-//Indianapolis Hosta Society - ECPv6.15.20//NONSGML v1.0//EN
CALSCALE:GREGORIAN
METHOD:PUBLISH
X-ORIGINAL-URL:https://indianapolishostasociety.org
X-WR-CALDESC:Events for Indianapolis Hosta Society
REFRESH-INTERVAL;VALUE=DURATION:PT1H
X-Robots-Tag:noindex
X-PUBLISHED-TTL:PT1H
BEGIN:VTIMEZONE
TZID:America/Indiana/Indianapolis
BEGIN:DAYLIGHT
TZOFFSETFROM:-0500
TZOFFSETTO:-0400
TZNAME:EDT
DTSTART:20240310T070000
END:DAYLIGHT
BEGIN:STANDARD
TZOFFSETFROM:-0400
TZOFFSETTO:-0500
TZNAME:EST
DTSTART:20241103T060000
END:STANDARD
BEGIN:DAYLIGHT
TZOFFSETFROM:-0500
TZOFFSETTO:-0400
TZNAME:EDT
DTSTART:20250309T070000
END:DAYLIGHT
BEGIN:STANDARD
TZOFFSETFROM:-0400
TZOFFSETTO:-0500
TZNAME:EST
DTSTART:20251102T060000
END:STANDARD
BEGIN:DAYLIGHT
TZOFFSETFROM:-0500
TZOFFSETTO:-0400
TZNAME:EDT
DTSTART:20260308T070000
END:DAYLIGHT
BEGIN:STANDARD
TZOFFSETFROM:-0400
TZOFFSETTO:-0500
TZNAME:EST
DTSTART:20261101T060000
END:STANDARD
END:VTIMEZONE
BEGIN:VEVENT
DTSTART;TZID=America/Indiana/Indianapolis:20250607T010000
DTEND;TZID=America/Indiana/Indianapolis:20250607T170000
DTSTAMP:20260424T045321
CREATED:20250318T121223Z
LAST-MODIFIED:20250318T121710Z
UID:883-1749258000-1749315600@indianapolishostasociety.org
SUMMARY:June Monthly Meeting
DESCRIPTION:Hosta Leaf Show 2025  \n\n\n\nCarmel Clay Library\, 425 E. Main Street\, Carmel\, IN. 46032 \n\n\n\nHosta Leaf Show Schedule  \n\n\n\nEntries Received:  8 a.m. – 10 a.m.Judging Begins:  10:30 a.m.Show Opens to the Public:  1:30 p.m. – 4 p.m.Claim Entries:  4:00 p.m. – 4:15 p.m.Show TearDown Begins:  4:15 p.m. (unclaimed entries will be discarded) \n\n\n\nThe AHS-sanctioned hosta show is a great way to share our love of hostas and educate ourselves and others about hostas. \n\n\n\nThe show competition includes twelve different cut leaf sections\, a container grown division\, trough/container grown gardens\, tri-fecta\, along with educational displays.  \n\n\n\nWe encourage all members to participate. Janet will explain the process at our April meeting and conducting a workshop closer to the show. The show schedule with complete rules and details will be posted later on our website. Check back in April.  \n\n\n\nIf you would like to volunteer to help with the show or have questions about entering leaves in the show\, contact Janet Stultz at 317-446-9718 or jstultz1505@gmail.com 
URL:https://indianapolishostasociety.org/event/monthly-meeting-14/
LOCATION:Carmel Clay Library\, 425 E. Main Street\, Carmel\, IN\, 46032\, United States
CATEGORIES:regular meeting
ATTACH;FMTTYPE=image/jpeg:https://indianapolishostasociety.org/wp-content/uploads/2025/06/IMG_3447-scaled.jpeg
END:VEVENT
BEGIN:VEVENT
DTSTART;TZID=America/Indiana/Indianapolis:20250619T080000
DTEND;TZID=America/Indiana/Indianapolis:20250621T170000
DTSTAMP:20260424T045321
CREATED:20250318T121117Z
LAST-MODIFIED:20250318T121125Z
UID:899-1750320000-1750525200@indianapolishostasociety.org
SUMMARY:AHS Convention
DESCRIPTION:2025 American Hosta Society Convention \n\n\n\n“Hosta Double Feature”\n\n\n\nJointly sponsored by the American Hosta Society and the Midwest Regional Hosta SocietyHosted by the Central Illinois Hosta Society \n\n\n\nPar-A-Dice Hotel – June 19-21\, 2025 – East Peoria\, IL \n\n\n\nGarden Tours – Accredited Hosta Show -Vendors – Live and Silent Auctions –  Educational SpeakersHosta Seed Growers Seedling Competition \n\n\n\nGift Hosta is Hosta ‘Prairieland Memories’ \n\n\n\nOptional Thursday evening at Hornbaker GardensGarden Center – Arboretum – Botanic Garden \n\n\n\n Classic Midwest Hosta-tality \n\n\n\n\n\n\nAnnual AHS Convention
URL:https://indianapolishostasociety.org/event/ahs-convention/
LOCATION:Indiana
CATEGORIES:conference
ATTACH;FMTTYPE=image/jpeg:https://indianapolishostasociety.org/wp-content/uploads/2024/11/AHS-Convention.jpg
END:VEVENT
BEGIN:VEVENT
DTSTART;TZID=America/Indiana/Indianapolis:20250629T100000
DTEND;TZID=America/Indiana/Indianapolis:20250629T170000
DTSTAMP:20260424T045321
CREATED:20250318T121820Z
LAST-MODIFIED:20250610T131738Z
UID:903-1751191200-1751216400@indianapolishostasociety.org
SUMMARY:Member Garden Tour
DESCRIPTION:Members Garden Tour \n\n\n\nWanda Dove\, 6299 W. County Rd 550 S.\, Coatesville\, INLong-time IHS member Wanda Dove is opening her garden to members. While Wanda admits that Mother Nature may be working to reclaim her garden\, as she doesn’t tend it as diligently as in the past\, it is still gorgeous with some of the largest specimens of hostas in the state!  Wanda is especially looking forward to visiting with old garden friends as well as meeting new ones!  You won’t want to miss this special opportunity!Avon Gardens\, 6259 East County Road 91 North\, Avon\, Indiana  46123Avon Gardens is an inspiring\, gorgeous 5+ acre destination garden center where visitors can see a wide variety of established plants throughout the property. The ravine garden may be of special interest to fellow Hosta lovers\, but there is so much more to see!  Meandering paths take one through both shady and sunny areas\, and the fairy garden is a magical area not to be missed.Karen Robbins created Avon Perennial Gardens beginning in 1987. Sadly\, Karen passed away in 2023\, but her dream is being carried on by her hand-picked current co-owners\, who are working to honor her legacy.Terra Flora\, 8047 Goat Hollow Road\, Martinsville\, IN  46151Doug and Kay Flauding returned “home” to Indiana from Wisconsin after retiring in 2004. Terra Flora is the result of 20 years of love and dedicated effort. This serene botanical oasis offers a diverse collection of plant species and landscapes to explore. The gardens cover about 2 acres\, nearly 80% of which is shaded\, and feature 20 separate gardens\, ponds\, a waterfall\, and unique garden art pieces.  There are over 2\,000 hostas\, several varieties of ferns\, shrubs\, and hundreds of annuals for long-lasting color. This garden provides a peaceful retreat where visitors can gather new ideas for their own gardens. You may want to plan to spend at least an hour at this gorgeous property.NOTE: there are NO public restrooms on the property.SHOPPING OPPORTUNITY: Cox’s Plant Farm\, 6360 S Co. Rd. 0\, Clayton\, Indiana 46118You may want to take advantage of being so close to this great shopping spot!  Cox’s Plant Farm is a family-owned business that started in 1970.  They are now one of the largest vendors in Indiana\, on more than 20 acres. There are over 20 huts where they grow plants\, as well as a retail building\, perennial building\, and other large greenhouses.
URL:https://indianapolishostasociety.org/event/member-garden-tour/
LOCATION:Indiana
CATEGORIES:member garden tours
ATTACH;FMTTYPE=image/jpeg:https://indianapolishostasociety.org/wp-content/uploads/2025/03/IMG_1214-e1749555167248.jpeg
END:VEVENT
END:VCALENDAR