BEGIN:VCALENDAR
VERSION:2.0
PRODID:-//Indianapolis Hosta Society - ECPv6.15.20//NONSGML v1.0//EN
CALSCALE:GREGORIAN
METHOD:PUBLISH
X-ORIGINAL-URL:https://indianapolishostasociety.org
X-WR-CALDESC:Events for Indianapolis Hosta Society
REFRESH-INTERVAL;VALUE=DURATION:PT1H
X-Robots-Tag:noindex
X-PUBLISHED-TTL:PT1H
BEGIN:VTIMEZONE
TZID:America/Indiana/Indianapolis
BEGIN:DAYLIGHT
TZOFFSETFROM:-0500
TZOFFSETTO:-0400
TZNAME:EDT
DTSTART:20250309T070000
END:DAYLIGHT
BEGIN:STANDARD
TZOFFSETFROM:-0400
TZOFFSETTO:-0500
TZNAME:EST
DTSTART:20251102T060000
END:STANDARD
BEGIN:DAYLIGHT
TZOFFSETFROM:-0500
TZOFFSETTO:-0400
TZNAME:EDT
DTSTART:20260308T070000
END:DAYLIGHT
BEGIN:STANDARD
TZOFFSETFROM:-0400
TZOFFSETTO:-0500
TZNAME:EST
DTSTART:20261101T060000
END:STANDARD
BEGIN:DAYLIGHT
TZOFFSETFROM:-0500
TZOFFSETTO:-0400
TZNAME:EDT
DTSTART:20270314T070000
END:DAYLIGHT
BEGIN:STANDARD
TZOFFSETFROM:-0400
TZOFFSETTO:-0500
TZNAME:EST
DTSTART:20271107T060000
END:STANDARD
END:VTIMEZONE
BEGIN:VEVENT
DTSTART;TZID=America/Indiana/Indianapolis:20261012T183000
DTEND;TZID=America/Indiana/Indianapolis:20261012T203000
DTSTAMP:20260425T080356
CREATED:20251112T224447Z
LAST-MODIFIED:20260226T150241Z
UID:1382-1791829800-1791837000@indianapolishostasociety.org
SUMMARY:October Monthly Meeting
DESCRIPTION:Oh Bats!  \n\n\n\nOur speaker will be from the Indiana Department of Natural Resources and will discuss the status of the Indiana Bat and why we really want them in our landscape. \n\n\n\nThe mammalogists within Indiana DNR’s Division of Fish\, Wildlife\, & Nature Preserves are tasked with monitoring the populations of mammalian wildlife that occur across Indiana. The statewide duties of this program allow mammalogists to work with amazing species like star-nosed moles in the north or Allegheny woodrats in the south\, and especially bats. Depending on the season\, this team is out surveying for bats and collecting valuable information on the 12 species of bats that help keep Indiana’s ecosystems healthy. During this program you’ll hear about some of the ongoing monitoring efforts DNR’s mammalogists have been leading and how these efforts inform management of the species. You’ll be introduced to the bats of Indiana where you’ll learn just how they provide pest-control services that save billions of dollars and even improve our health.
URL:https://indianapolishostasociety.org/event/october-monthly-meeting/
LOCATION:St Lukes Methodist Church\, 100 W. 86th Street\, Entrance #6\, Indianapolis\, Indiana\, 46240\, United States
CATEGORIES:regular meeting
ATTACH;FMTTYPE=image/jpeg:https://indianapolishostasociety.org/wp-content/uploads/2025/11/5850403553_d88d0873b0_b.jpg
END:VEVENT
BEGIN:VEVENT
DTSTART;TZID=America/Indiana/Indianapolis:20261109T183000
DTEND;TZID=America/Indiana/Indianapolis:20261109T203000
DTSTAMP:20260425T080356
CREATED:20251112T224838Z
LAST-MODIFIED:20260213T175930Z
UID:1384-1794249000-1794256200@indianapolishostasociety.org
SUMMARY:November Monthly Meeting
DESCRIPTION:Wild by Design: The Art of Gardening for Wildlife \n\n\n\nGuest Speaker: Karen Mitchell\, Consumer Horticulture Extension Specialist\, Purdue University \n\n\n\nEven a small garden can make a big difference for local wildlife. This presentation explores how garden ecology supports birds\, pollinators\, and beneficial insects\, and how thoughtful plant selection\, habitat features\, and sustainable maintenance practices can increase biodiversity in the home landscape. Learn how native plants\, food sources\, shelter\, water\, and year-round seasonal interest work together to create a thriving backyard wildlife habitat. Gardening becomes more than growing plants—it becomes building a resilient\, wildlife-friendly ecosystem right outside your window.
URL:https://indianapolishostasociety.org/event/november-monthly-meeting/
LOCATION:St Lukes Methodist Church\, 100 W. 86th Street\, Entrance #6\, Indianapolis\, Indiana\, 46240\, United States
CATEGORIES:regular meeting
ATTACH;FMTTYPE=image/jpeg:https://indianapolishostasociety.org/wp-content/uploads/2025/11/Screenshot_20250721_112751_Gallery.jpg
END:VEVENT
BEGIN:VEVENT
DTSTART;TZID=America/Indiana/Indianapolis:20261206T130000
DTEND;TZID=America/Indiana/Indianapolis:20261206T170000
DTSTAMP:20260425T080356
CREATED:20251112T225042Z
LAST-MODIFIED:20260202T185808Z
UID:1386-1796562000-1796576400@indianapolishostasociety.org
SUMMARY:December Monthly Meeting
DESCRIPTION:Holiday Gathering and Pitch-in
URL:https://indianapolishostasociety.org/event/december-monthly-meeting/
LOCATION:St Lukes Methodist Church\, 100 W. 86th Street\, Entrance #6\, Indianapolis\, Indiana\, 46240\, United States
CATEGORIES:Holiday banquet
ATTACH;FMTTYPE=image/webp:https://indianapolishostasociety.org/wp-content/uploads/2024/11/Holiday-awards.webp
END:VEVENT
END:VCALENDAR