BEGIN:VCALENDAR
VERSION:2.0
PRODID:-//Indianapolis Hosta Society - ECPv6.15.20//NONSGML v1.0//EN
CALSCALE:GREGORIAN
METHOD:PUBLISH
X-WR-CALNAME:Indianapolis Hosta Society
X-ORIGINAL-URL:https://indianapolishostasociety.org
X-WR-CALDESC:Events for Indianapolis Hosta Society
REFRESH-INTERVAL;VALUE=DURATION:PT1H
X-Robots-Tag:noindex
X-PUBLISHED-TTL:PT1H
BEGIN:VTIMEZONE
TZID:America/Indiana/Indianapolis
BEGIN:DAYLIGHT
TZOFFSETFROM:-0500
TZOFFSETTO:-0400
TZNAME:EDT
DTSTART:20240310T070000
END:DAYLIGHT
BEGIN:STANDARD
TZOFFSETFROM:-0400
TZOFFSETTO:-0500
TZNAME:EST
DTSTART:20241103T060000
END:STANDARD
BEGIN:DAYLIGHT
TZOFFSETFROM:-0500
TZOFFSETTO:-0400
TZNAME:EDT
DTSTART:20250309T070000
END:DAYLIGHT
BEGIN:STANDARD
TZOFFSETFROM:-0400
TZOFFSETTO:-0500
TZNAME:EST
DTSTART:20251102T060000
END:STANDARD
BEGIN:DAYLIGHT
TZOFFSETFROM:-0500
TZOFFSETTO:-0400
TZNAME:EDT
DTSTART:20260308T070000
END:DAYLIGHT
BEGIN:STANDARD
TZOFFSETFROM:-0400
TZOFFSETTO:-0500
TZNAME:EST
DTSTART:20261101T060000
END:STANDARD
END:VTIMEZONE
BEGIN:VTIMEZONE
TZID:UTC
BEGIN:STANDARD
TZOFFSETFROM:+0000
TZOFFSETTO:+0000
TZNAME:UTC
DTSTART:20230101T000000
END:STANDARD
END:VTIMEZONE
BEGIN:VEVENT
DTSTART;TZID=America/Indiana/Indianapolis:20250512T183000
DTEND;TZID=America/Indiana/Indianapolis:20250512T203000
DTSTAMP:20260423T141511
CREATED:20250318T120900Z
LAST-MODIFIED:20250318T120912Z
UID:881-1747074600-1747081800@indianapolishostasociety.org
SUMMARY:May Monthly Meeting
DESCRIPTION:Right-Sized Gardening: Growing with Life’s Changes with Jo Ellen Meyers Sharp  \n\n\n\nJo Ellen Meyers Sharp is the Hoosier Gardener. She’s a 25-year\, award-winning veteran of print journalism and owner of Write for You! LLC\, a freelance writing and editing business. You can find her blog at hoosiergardener.com. Jo Ellen is a past president of GardenComm: GardenCommunicators International. She is a garden coach and has a four-season commercial and residential container planting business. For 20 years\, she worked at a large\, independent garden center in Indianapolis\, including a stint as buyer of perennials\, trees and shrubs. The popular speaker publishes the award-winning\, free\, monthly Hoosier Gardener Newsletter\, with more than 3\,000 subscribers. (http://eepurl.com/gkfb91).
URL:https://indianapolishostasociety.org/event/monthly-meeting-13/
LOCATION:Coxhall Gardens\, Coxhall Gardens 11677 Towne Rd\, Carmel\, 46032\, United States
CATEGORIES:regular meeting
ATTACH;FMTTYPE=image/jpeg:https://indianapolishostasociety.org/wp-content/uploads/2025/05/Jo-Ellen-Meyers-Sharp.jpg
END:VEVENT
BEGIN:VEVENT
DTSTART;TZID=America/Indiana/Indianapolis:20250414T183000
DTEND;TZID=America/Indiana/Indianapolis:20250414T203000
DTSTAMP:20260423T141511
CREATED:20250318T115143Z
LAST-MODIFIED:20250318T115155Z
UID:879-1744655400-1744662600@indianapolishostasociety.org
SUMMARY:April Monthly Meeting
DESCRIPTION:Containers from the Ground Up with Myrene Brown  \n\n\n\nCome and enjoy Myrene Brown’s program “Containers From The Ground Up”. The program will be a visual journey starting with where to place your container\, container choices\, and set up. There will be tips to keep the need to water to a minimum. Time will be spent discussing container maintenance\, quick fixes and winter storage to round out the program. Myrene’s hope is that you will walk away with some new thoughts on how to have thriving container plantings that bring you joy. 
URL:https://indianapolishostasociety.org/event/monthly-meeting-12/
LOCATION:Coxhall Gardens\, Coxhall Gardens 11677 Towne Rd\, Carmel\, 46032\, United States
CATEGORIES:regular meeting
ATTACH;FMTTYPE=image/jpeg:https://indianapolishostasociety.org/wp-content/uploads/2025/04/IMG_2788-3.jpeg
END:VEVENT
BEGIN:VEVENT
DTSTART;TZID=America/Indiana/Indianapolis:20250321T080000
DTEND;TZID=America/Indiana/Indianapolis:20250322T170000
DTSTAMP:20260423T141511
CREATED:20250318T052300Z
LAST-MODIFIED:20250318T052310Z
UID:877-1742544000-1742662800@indianapolishostasociety.org
SUMMARY:Great Lakes Region Hosta College
DESCRIPTION:Hosta College officially begins at 6:00 pm on Friday with hosta and gardening vendors\, an auction\, snacks\, and fellowship with old and new gardening friends. Starting at 7:30 on Saturday morning you can enjoy a complimentary continental breakfast /and attend five hours of classes and lunch. Our event ends with an optional banquet and speaker at 6:30 pm.
URL:https://indianapolishostasociety.org/event/great-lakes-region-hosta-college/
LOCATION:Indiana
CATEGORIES:Hosta College
END:VEVENT
BEGIN:VEVENT
DTSTART;TZID=America/Indiana/Indianapolis:20250310T183000
DTEND;TZID=America/Indiana/Indianapolis:20250310T203000
DTSTAMP:20260423T141511
CREATED:20250310T220002Z
LAST-MODIFIED:20250228T205058Z
UID:875-1741631400-1741638600@indianapolishostasociety.org
SUMMARY:March Monthly Meeting
DESCRIPTION:Tool-Up for Gardening: Top 10 Garden Tools with Steve Cline \n\n\n\n\nSteve is a Marion County Advanced Master Gardener from  the class of 2015. Retired in 2014 after 51 years as a Registered Pharmacist in retail Pharmacy. He is married and has 5 children which have blessed him with 16 grandchildren and 16 great-grandchildren. He currently volunteers at Holiday Park in Indy\, serves as a team leader at the Demonstration Garden at the State Fairgrounds and works at his Church on the Grounds Team taking care of its 81 acre campus . He is an avid collector of garden tools and will be speaking to us today on his “Top 10 Garden Tools” along with other favorites; their proper use\, care and maintenance .
URL:https://indianapolishostasociety.org/event/monthly-meeting-11/
LOCATION:Coxhall Gardens\, Coxhall Gardens 11677 Towne Rd\, Carmel\, 46032\, United States
CATEGORIES:regular meeting
ATTACH;FMTTYPE=image/jpeg:https://indianapolishostasociety.org/wp-content/uploads/2024/11/A-Happy-Steve-with-All-of-His-Tools.jpg
END:VEVENT
BEGIN:VEVENT
DTSTART;TZID=America/Indiana/Indianapolis:20250208T100000
DTEND;TZID=America/Indiana/Indianapolis:20250208T120000
DTSTAMP:20260423T141511
CREATED:20250208T165909Z
LAST-MODIFIED:20250217T193404Z
UID:870-1739008800-1739016000@indianapolishostasociety.org
SUMMARY:February Monthly Meeting
DESCRIPTION:Coffee and Long’s Donuts \n\n\n\nSpring is nigh! Before long we will be out watching our hostas poking their little eyes up to greet the sun. While we’re waiting\, come socialize with us and enjoy morning coffee and Long’s donuts.A special February meeting to get together and go over upcoming events for 2025. Once again join us for a preseason gathering to chat with old friends and meet some new ones. We will cover the activities of the upcoming year with by presentations from Committee Chairs on their events and needs for help with the upcoming events. We will be outlining plans and needs as preparations begin for the 2027 Convention being held in Indianapolis.
URL:https://indianapolishostasociety.org/event/monthly-meeting/
LOCATION:Coxhall Gardens\, Coxhall Gardens 11677 Towne Rd\, Carmel\, 46032\, United States
CATEGORIES:regular meeting
ATTACH;FMTTYPE=image/jpeg:https://indianapolishostasociety.org/wp-content/uploads/2024/01/dreamstime_xxl_17234331-scaled.jpg
END:VEVENT
BEGIN:VEVENT
DTSTART;TZID=UTC:20241208T130000
DTEND;TZID=UTC:20241208T170000
DTSTAMP:20260423T141511
CREATED:20231220T020917Z
LAST-MODIFIED:20240117T190738Z
UID:278-1733662800-1733677200@indianapolishostasociety.org
SUMMARY:Monthly Meeting
DESCRIPTION:Holiday Gathering \n\n\n\nOur annual end-of-year gathering including a fabulous pitch-in buffet of members favorite foods\, annual awards\, and\, of course\, Hosto.
URL:https://indianapolishostasociety.org/event/monthly-meeting-8/
LOCATION:Coxhall Gardens\, Coxhall Gardens 11677 Towne Rd\, Carmel\, 46032\, United States
CATEGORIES:Holiday banquet
ATTACH;FMTTYPE=image/jpeg:https://indianapolishostasociety.org/wp-content/uploads/2024/01/IMG_0331_reduced-1.jpg
END:VEVENT
BEGIN:VEVENT
DTSTART;TZID=UTC:20241111T183000
DTEND;TZID=UTC:20241111T203000
DTSTAMP:20260423T141511
CREATED:20241220T020747Z
LAST-MODIFIED:20250311T221000Z
UID:276-1731349800-1731357000@indianapolishostasociety.org
SUMMARY:Monthly Meeting
DESCRIPTION:Bill McKnight (aka The Mad Botanist) is a professionally trained botanist\, experienced gardener and educator. A native of Illinois\, he attended EIU\, U of Mich and the U of Ill. He is comfortable dealing with flowering plants and cryptogams (i.e.\, fungi\, lichens\, bryophytes and ferns) as well as ornamental and food plant issues. He has an extensive ethnobotanical background and understands the peculiarities presented by the bistate climate and soil\, both in natural and human influenced environs. He wrote\, illustrated and self-published (2016) Rantings of a Mad Botanist\, a book intended to help gardeners and property managers make fewer mistakes. The book emphasizes stewardship and central Indiana\, but is more broadly applicable. He lives at and gardens a three-acre property on the NE side of Indianapolis. 
URL:https://indianapolishostasociety.org/event/monthly-meeting-7/
LOCATION:Coxhall Gardens\, Coxhall Gardens 11677 Towne Rd\, Carmel\, 46032\, United States
CATEGORIES:regular meeting
ATTACH;FMTTYPE=image/jpeg:https://indianapolishostasociety.org/wp-content/uploads/2024/01/Mad-Botanist.jpg
END:VEVENT
BEGIN:VEVENT
DTSTART;TZID=UTC:20241014T183000
DTEND;TZID=UTC:20241014T203000
DTSTAMP:20260423T141511
CREATED:20231220T020604Z
LAST-MODIFIED:20240118T015350Z
UID:272-1728930600-1728937800@indianapolishostasociety.org
SUMMARY:Monthly Meeting
DESCRIPTION:“Architecture in the Garden:  From Fountains to Fences to Pink Flamingos” \n\n\n\nDavid Gorden\, FASLALandscape ArchitectMark M. Holeman\, Inc. – Landscape Architects and Contractors \n\n\n\nPlants are typically the stars of a garden.  However\, it is the complimentary “non-plants” that set the stage. Explore the many elements that give structure\, interest\, and charm to a garden.  They might be more integral than the plants themselves. \n\n\n\nDavid Gorden is a landscape architect with Mark M. Holeman\, Inc. in Indianapolis where he has been designing landscapes for over 35 years. A graduate of the University of Illinois\, he is a past president of the Horticultural Society of Newfields and the Indiana Chapter of the American Society of Landscape Architects. A soldier in the battle against invasive plants\, he serves on the Indiana Invasive Plant Advisory Committee and board of the Midwest Invasive Plant Network. In 2018 he was named a Fellow of the American Society of Landscape Architects.
URL:https://indianapolishostasociety.org/event/monthly-meeting-5/
LOCATION:Coxhall Gardens\, Coxhall Gardens 11677 Towne Rd\, Carmel\, 46032\, United States
CATEGORIES:regular meeting
ATTACH;FMTTYPE=image/jpeg:https://indianapolishostasociety.org/wp-content/uploads/2023/12/Gorden-Flamingos.jpg
END:VEVENT
BEGIN:VEVENT
DTSTART;TZID=UTC:20240915T010000
DTEND;TZID=UTC:20240915T170000
DTSTAMP:20260423T141511
CREATED:20231220T020451Z
LAST-MODIFIED:20240117T031742Z
UID:270-1726362000-1726419600@indianapolishostasociety.org
SUMMARY:Fall Festival
DESCRIPTION:Food\, socializing and a plant auction are the the main focus. 
URL:https://indianapolishostasociety.org/event/monthly-meeting-4/
LOCATION:Coxhall Gardens\, Coxhall Gardens 11677 Towne Rd\, Carmel\, 46032\, United States
CATEGORIES:fall festival
END:VEVENT
BEGIN:VEVENT
DTSTART;TZID=UTC:20240812T183000
DTEND;TZID=UTC:20240812T203000
DTSTAMP:20260423T141511
CREATED:20231220T020325Z
LAST-MODIFIED:20240117T021939Z
UID:268-1723487400-1723494600@indianapolishostasociety.org
SUMMARY:Monthly meeting
DESCRIPTION:GROWING AND CARING FOR YOUR HYDRANGEAS \n\n\n\nKari Arney\, Horticulturist at Sullivan’s Hardware will be talking about hydrangeas and what we can do to grow those beautiful flowers. Hydrangea is a genus of about 75 species of flowering plants native to China and the Americas. They are extremely vigorous\, long-lived shrubs that offer extravagant blooms throughout summer and even into fall\, when many shrubs have completed their show for the year. All bring a stately\, oldfashioned feel to the landscape. Growers have developed a number of interesting hydrangeas which are not the traditional white ones our grandmothers had. Find out from Kari’s presentation which ones are your favorites and which hydrangeas grow best in our Indiana climate.
URL:https://indianapolishostasociety.org/event/monthly-meeting-3/
LOCATION:Coxhall Gardens\, Coxhall Gardens 11677 Towne Rd\, Carmel\, 46032\, United States
CATEGORIES:regular meeting
ATTACH;FMTTYPE=image/jpeg:https://indianapolishostasociety.org/wp-content/uploads/2023/12/IMG_2775-scaled.jpg
END:VEVENT
BEGIN:VEVENT
DTSTART;TZID=UTC:20240719T070000
DTEND;TZID=UTC:20240720T190000
DTSTAMP:20260423T141511
CREATED:20231220T020227Z
LAST-MODIFIED:20240606T183931Z
UID:266-1721372400-1721502000@indianapolishostasociety.org
SUMMARY:Illinois Coach Trip
DESCRIPTION:Indianapolis Hosta Society Bus Trip to Champaign Illinois\n\n\n\nRegister before June 18\, 2024 at: ihs2024bustrip.eventzilla.net  Coach bus trip to Champaign\, Illinois area. During the trip will be visiting the University of Illinois Arboretum which includes a Japanese Garden\, the Illinois Prairie Hosta Society Display Garden\, and the Master Gardener’s Idea Garden. We will also have a guided tour of the Allerton Park and Retreat center gardens. We will be visiting the Bill Dick and Katrina Cheney garden which has one of the largest koi ponds in central Illinois. This spring they expanded it by another 4500 gallons. Bill will give us a presentation about his koi and parrots. Some of you know Mary Ann Metz. We will be visiting her garden as well as the garden center she works for\, Prairie Gardens.  We will visit Mike Weber’s garden and a few other private gardens.Cost of the trip is $310 per person with double occupancy hotel room and $385 per person for single occupancy hotel room.Included in the trip is Bus Transportation\, hotel accommodations at the Holiday Inn Champaign\, admission to Allerton Park Garden tour\, Lunches Friday & Saturday\, Dinner Friday night\, Saturday Breakfast\, snacks and fun and friendships.
URL:https://indianapolishostasociety.org/event/illinois-coach-trip/
LOCATION:Indiana
CATEGORIES:bus trip
ATTACH;FMTTYPE=image/png:https://indianapolishostasociety.org/wp-content/uploads/2023/12/Screenshot-2024-06-06-at-2.07.51 PM.png
END:VEVENT
BEGIN:VEVENT
DTSTART;TZID=UTC:20240607T000000
DTEND;TZID=UTC:20240608T235959
DTSTAMP:20260423T141511
CREATED:20231220T020118Z
LAST-MODIFIED:20240420T221019Z
UID:264-1717718400-1717891199@indianapolishostasociety.org
SUMMARY:Great Lakes Tailgate
DESCRIPTION:Great Lakes Regional Hosta Society Tailgate\, is for members only. Six garden tours on Friday 1-5 pm\, dinner and auction 6-9 pm\, and six garden tours on Saturday
URL:https://indianapolishostasociety.org/event/great-lakes-tailgate/
LOCATION:Indiana
CATEGORIES:conference
ATTACH;FMTTYPE=image/jpeg:https://indianapolishostasociety.org/wp-content/uploads/2023/12/IMG_1376-scaled.jpeg
END:VEVENT
BEGIN:VEVENT
DTSTART;TZID=UTC:20240513T183000
DTEND;TZID=UTC:20240513T200000
DTSTAMP:20260423T141511
CREATED:20230101T060007Z
LAST-MODIFIED:20240227T180740Z
UID:262-1715625000-1715630400@indianapolishostasociety.org
SUMMARY:Monthly Meeting
DESCRIPTION:Rad Drew Photography \n\n\n\nThe creative mind of the photographer is still the most important element in a great photo. The camera doesn’t create a photograph any more than a hammer designs a building; it’s merely a tool that allows us to create our vision. \n\n\n\nToday\, my camera bag holds two mirrorless cameras\, an infrared camera\, a point-and-shoot\, and assorted iPhones. Of these tools\, I credit my use of iPhones since 2010 with providing more opportunities to practice the esthetics of photography\, making me a better photographer regardless of the camera I’m using. I’m grateful that I remain passionate about photography and that the endeavor I began so long ago is still fun and magical!
URL:https://indianapolishostasociety.org/event/monthly-meeting-9/
LOCATION:Coxhall Gardens\, Coxhall Gardens 11677 Towne Rd\, Carmel\, 46032\, United States
CATEGORIES:regular meeting
ATTACH;FMTTYPE=image/jpeg:https://indianapolishostasociety.org/wp-content/uploads/2023/12/Rad_Drew-copy.jpg
END:VEVENT
END:VCALENDAR