BEGIN:VCALENDAR
VERSION:2.0
PRODID:-//Indianapolis Hosta Society - ECPv6.15.20//NONSGML v1.0//EN
CALSCALE:GREGORIAN
METHOD:PUBLISH
X-ORIGINAL-URL:https://indianapolishostasociety.org
X-WR-CALDESC:Events for Indianapolis Hosta Society
REFRESH-INTERVAL;VALUE=DURATION:PT1H
X-Robots-Tag:noindex
X-PUBLISHED-TTL:PT1H
BEGIN:VTIMEZONE
TZID:America/Indiana/Indianapolis
BEGIN:DAYLIGHT
TZOFFSETFROM:-0500
TZOFFSETTO:-0400
TZNAME:EDT
DTSTART:20250309T070000
END:DAYLIGHT
BEGIN:STANDARD
TZOFFSETFROM:-0400
TZOFFSETTO:-0500
TZNAME:EST
DTSTART:20251102T060000
END:STANDARD
BEGIN:DAYLIGHT
TZOFFSETFROM:-0500
TZOFFSETTO:-0400
TZNAME:EDT
DTSTART:20260308T070000
END:DAYLIGHT
BEGIN:STANDARD
TZOFFSETFROM:-0400
TZOFFSETTO:-0500
TZNAME:EST
DTSTART:20261101T060000
END:STANDARD
BEGIN:DAYLIGHT
TZOFFSETFROM:-0500
TZOFFSETTO:-0400
TZNAME:EDT
DTSTART:20270314T070000
END:DAYLIGHT
BEGIN:STANDARD
TZOFFSETFROM:-0400
TZOFFSETTO:-0500
TZNAME:EST
DTSTART:20271107T060000
END:STANDARD
END:VTIMEZONE
BEGIN:VEVENT
DTSTART;TZID=America/Indiana/Indianapolis:20260716T000000
DTEND;TZID=America/Indiana/Indianapolis:20260719T235959
DTSTAMP:20260423T185135
CREATED:20251112T223310Z
LAST-MODIFIED:20260317T125239Z
UID:1375-1784160000-1784505599@indianapolishostasociety.org
SUMMARY:Coach Trip
DESCRIPTION:This year we will be traveling to the popular Western Michigan area again for a 4 day 3 night bus trip beginning on Thursday July 16 and concluding on Sunday July 19.  We will be touring gardens we didn’t visit the last time\, in the Grand Rapids\, Kalamazoo\, & northern Indiana areas. Stay tuned for more information and to sign up.
URL:https://indianapolishostasociety.org/event/coach-trip/
CATEGORIES:bus trip
ATTACH;FMTTYPE=image/jpeg:https://indianapolishostasociety.org/wp-content/uploads/2025/11/IMG_4613-scaled.jpg
END:VEVENT
END:VCALENDAR