BEGIN:VCALENDAR
VERSION:2.0
PRODID:-//Indianapolis Hosta Society - ECPv6.15.20//NONSGML v1.0//EN
CALSCALE:GREGORIAN
METHOD:PUBLISH
X-WR-CALNAME:Indianapolis Hosta Society
X-ORIGINAL-URL:https://indianapolishostasociety.org
X-WR-CALDESC:Events for Indianapolis Hosta Society
REFRESH-INTERVAL;VALUE=DURATION:PT1H
X-Robots-Tag:noindex
X-PUBLISHED-TTL:PT1H
BEGIN:VTIMEZONE
TZID:America/Indiana/Indianapolis
BEGIN:DAYLIGHT
TZOFFSETFROM:-0500
TZOFFSETTO:-0400
TZNAME:EDT
DTSTART:20250309T070000
END:DAYLIGHT
BEGIN:STANDARD
TZOFFSETFROM:-0400
TZOFFSETTO:-0500
TZNAME:EST
DTSTART:20251102T060000
END:STANDARD
BEGIN:DAYLIGHT
TZOFFSETFROM:-0500
TZOFFSETTO:-0400
TZNAME:EDT
DTSTART:20260308T070000
END:DAYLIGHT
BEGIN:STANDARD
TZOFFSETFROM:-0400
TZOFFSETTO:-0500
TZNAME:EST
DTSTART:20261101T060000
END:STANDARD
BEGIN:DAYLIGHT
TZOFFSETFROM:-0500
TZOFFSETTO:-0400
TZNAME:EDT
DTSTART:20270314T070000
END:DAYLIGHT
BEGIN:STANDARD
TZOFFSETFROM:-0400
TZOFFSETTO:-0500
TZNAME:EST
DTSTART:20271107T060000
END:STANDARD
END:VTIMEZONE
BEGIN:VEVENT
DTSTART;TZID=America/Indiana/Indianapolis:20260516T103000
DTEND;TZID=America/Indiana/Indianapolis:20260516T123000
DTSTAMP:20260423T153403
CREATED:20251112T222546Z
LAST-MODIFIED:20260222T192430Z
UID:1369-1778927400-1778934600@indianapolishostasociety.org
SUMMARY:May Leaf Show Prep
DESCRIPTION:Hosta 101 and Leaf Show Prep Class \n\n\n\nEver thought about submitting leaves for the May Leaf Show but just not sure what you need to do? This is the class for you. Amy will walk you thru all the steps from choosing the proper leaf\, cleaning it and soaking them overnight so they are perfect the next day. Be a participant in our AHS Hosta Leaf Show on May 30th at the Carmel Public Library.
URL:https://indianapolishostasociety.org/event/may-leaf-show-prep/
LOCATION:Amy Anderson\, 14254 Carlow Run\, Westfield\, Indiana\, 46074\, United States
CATEGORIES:regular meeting
ATTACH;FMTTYPE=image/jpeg:https://indianapolishostasociety.org/wp-content/uploads/2025/04/image0.jpeg
END:VEVENT
END:VCALENDAR