BEGIN:VCALENDAR
VERSION:2.0
PRODID:-//Indianapolis Hosta Society - ECPv6.15.20//NONSGML v1.0//EN
CALSCALE:GREGORIAN
METHOD:PUBLISH
X-WR-CALNAME:Indianapolis Hosta Society
X-ORIGINAL-URL:https://indianapolishostasociety.org
X-WR-CALDESC:Events for Indianapolis Hosta Society
REFRESH-INTERVAL;VALUE=DURATION:PT1H
X-Robots-Tag:noindex
X-PUBLISHED-TTL:PT1H
BEGIN:VTIMEZONE
TZID:America/Indiana/Indianapolis
BEGIN:DAYLIGHT
TZOFFSETFROM:-0500
TZOFFSETTO:-0400
TZNAME:EDT
DTSTART:20250309T070000
END:DAYLIGHT
BEGIN:STANDARD
TZOFFSETFROM:-0400
TZOFFSETTO:-0500
TZNAME:EST
DTSTART:20251102T060000
END:STANDARD
BEGIN:DAYLIGHT
TZOFFSETFROM:-0500
TZOFFSETTO:-0400
TZNAME:EDT
DTSTART:20260308T070000
END:DAYLIGHT
BEGIN:STANDARD
TZOFFSETFROM:-0400
TZOFFSETTO:-0500
TZNAME:EST
DTSTART:20261101T060000
END:STANDARD
BEGIN:DAYLIGHT
TZOFFSETFROM:-0500
TZOFFSETTO:-0400
TZNAME:EDT
DTSTART:20270314T070000
END:DAYLIGHT
BEGIN:STANDARD
TZOFFSETFROM:-0400
TZOFFSETTO:-0500
TZNAME:EST
DTSTART:20271107T060000
END:STANDARD
END:VTIMEZONE
BEGIN:VEVENT
DTSTART;TZID=America/Indiana/Indianapolis:20260413T183000
DTEND;TZID=America/Indiana/Indianapolis:20260413T203000
DTSTAMP:20260423T135828
CREATED:20251112T222300Z
LAST-MODIFIED:20260418T082053Z
UID:1367-1776105000-1776112200@indianapolishostasociety.org
SUMMARY:April Monthly Meeting
DESCRIPTION:Gardening in the Shade – Beyond Hostas \n\n\n\nGuest Speaker: John Chapin \n\n\n\nWe all know hostas are classic shade garden favorites\, but a truly beautiful shade garden design includes much more. A variety of shade-loving perennials and annuals can add color\, texture\, and seasonal interest beyond traditional hosta plantings. \n\n\n\nShade-tolerant shrubs and ornamental trees also provide structure and depth\, anchoring garden beds and enhancing the overall landscape.  \n\n\n\nIn addition\, creative and budget-friendly garden accents—such as containers\, benches\, and decorative features—can add charm and personality. By combining diverse plants with thoughtful design elements\, garden clubs can create layered\, eye-catching shade gardens that stand out.John’s handout from the meeting
URL:https://indianapolishostasociety.org/event/april-monthly-meeting/
LOCATION:St Lukes Methodist Church\, 100 W. 86th Street\, Entrance #6\, Indianapolis\, Indiana\, 46240\, United States
CATEGORIES:regular meeting
END:VEVENT
END:VCALENDAR