BEGIN:VCALENDAR
VERSION:2.0
PRODID:-//Indianapolis Hosta Society - ECPv6.15.20//NONSGML v1.0//EN
CALSCALE:GREGORIAN
METHOD:PUBLISH
X-WR-CALNAME:Indianapolis Hosta Society
X-ORIGINAL-URL:https://indianapolishostasociety.org
X-WR-CALDESC:Events for Indianapolis Hosta Society
REFRESH-INTERVAL;VALUE=DURATION:PT1H
X-Robots-Tag:noindex
X-PUBLISHED-TTL:PT1H
BEGIN:VTIMEZONE
TZID:America/Indiana/Indianapolis
BEGIN:DAYLIGHT
TZOFFSETFROM:-0500
TZOFFSETTO:-0400
TZNAME:EDT
DTSTART:20250309T070000
END:DAYLIGHT
BEGIN:STANDARD
TZOFFSETFROM:-0400
TZOFFSETTO:-0500
TZNAME:EST
DTSTART:20251102T060000
END:STANDARD
BEGIN:DAYLIGHT
TZOFFSETFROM:-0500
TZOFFSETTO:-0400
TZNAME:EDT
DTSTART:20260308T070000
END:DAYLIGHT
BEGIN:STANDARD
TZOFFSETFROM:-0400
TZOFFSETTO:-0500
TZNAME:EST
DTSTART:20261101T060000
END:STANDARD
BEGIN:DAYLIGHT
TZOFFSETFROM:-0500
TZOFFSETTO:-0400
TZNAME:EDT
DTSTART:20270314T070000
END:DAYLIGHT
BEGIN:STANDARD
TZOFFSETFROM:-0400
TZOFFSETTO:-0500
TZNAME:EST
DTSTART:20271107T060000
END:STANDARD
END:VTIMEZONE
BEGIN:VEVENT
DTSTART;TZID=America/Indiana/Indianapolis:20260309T183000
DTEND;TZID=America/Indiana/Indianapolis:20260309T203000
DTSTAMP:20260423T153855
CREATED:20260307T171008Z
LAST-MODIFIED:20260307T171015Z
UID:1365-1773081000-1773088200@indianapolishostasociety.org
SUMMARY:March Monthly Meeting
DESCRIPTION:The Best Websites for Hosta Gardeners Guest Speaker: Don Rawson from Comstock Park\, MIWe will be in Room N101/N102 for this meeting. \n\n\n\nThe internet offers a vast collection of hosta gardening information\, expert advice\, and trusted resources for gardeners of all experience levels. In this class\, we explore the best online resources for hosta care\, including planting guides\, maintenance tips\, pest management solutions\, and seasonal growing advice. \n\n\n\nDon will share the most popular mail-order hosta nurseries and online plant retailers for gardeners looking to purchase new hosta varieties and companion plants. Learn where to buy high-quality hostas online\, compare specialty growers\, and discover reliable sources for shade garden plants. \n\n\n\nDetailed class notes are included with the presentation for future reference. For additional hosta gardening tips and resources. Visit his website.Open to the public
URL:https://indianapolishostasociety.org/event/march-monthly-meeting/
LOCATION:St Lukes Methodist Church\, 100 W. 86th Street\, Entrance #6\, Indianapolis\, Indiana\, 46240\, United States
CATEGORIES:regular meeting
ATTACH;FMTTYPE=image/jpeg:https://indianapolishostasociety.org/wp-content/uploads/2026/02/Donald-Rawson_sm.jpg
END:VEVENT
END:VCALENDAR