BEGIN:VCALENDAR
VERSION:2.0
PRODID:-//Indianapolis Hosta Society - ECPv6.15.20//NONSGML v1.0//EN
CALSCALE:GREGORIAN
METHOD:PUBLISH
X-WR-CALNAME:Indianapolis Hosta Society
X-ORIGINAL-URL:https://indianapolishostasociety.org
X-WR-CALDESC:Events for Indianapolis Hosta Society
REFRESH-INTERVAL;VALUE=DURATION:PT1H
X-Robots-Tag:noindex
X-PUBLISHED-TTL:PT1H
BEGIN:VTIMEZONE
TZID:America/Indiana/Indianapolis
BEGIN:DAYLIGHT
TZOFFSETFROM:-0500
TZOFFSETTO:-0400
TZNAME:EDT
DTSTART:20240310T070000
END:DAYLIGHT
BEGIN:STANDARD
TZOFFSETFROM:-0400
TZOFFSETTO:-0500
TZNAME:EST
DTSTART:20241103T060000
END:STANDARD
BEGIN:DAYLIGHT
TZOFFSETFROM:-0500
TZOFFSETTO:-0400
TZNAME:EDT
DTSTART:20250309T070000
END:DAYLIGHT
BEGIN:STANDARD
TZOFFSETFROM:-0400
TZOFFSETTO:-0500
TZNAME:EST
DTSTART:20251102T060000
END:STANDARD
BEGIN:DAYLIGHT
TZOFFSETFROM:-0500
TZOFFSETTO:-0400
TZNAME:EDT
DTSTART:20260308T070000
END:DAYLIGHT
BEGIN:STANDARD
TZOFFSETFROM:-0400
TZOFFSETTO:-0500
TZNAME:EST
DTSTART:20261101T060000
END:STANDARD
END:VTIMEZONE
BEGIN:VEVENT
DTSTART;TZID=America/Indiana/Indianapolis:20250607T010000
DTEND;TZID=America/Indiana/Indianapolis:20250607T170000
DTSTAMP:20260424T062818
CREATED:20250318T121223Z
LAST-MODIFIED:20250318T121710Z
UID:883-1749258000-1749315600@indianapolishostasociety.org
SUMMARY:June Monthly Meeting
DESCRIPTION:Hosta Leaf Show 2025  \n\n\n\nCarmel Clay Library\, 425 E. Main Street\, Carmel\, IN. 46032 \n\n\n\nHosta Leaf Show Schedule  \n\n\n\nEntries Received:  8 a.m. – 10 a.m.Judging Begins:  10:30 a.m.Show Opens to the Public:  1:30 p.m. – 4 p.m.Claim Entries:  4:00 p.m. – 4:15 p.m.Show TearDown Begins:  4:15 p.m. (unclaimed entries will be discarded) \n\n\n\nThe AHS-sanctioned hosta show is a great way to share our love of hostas and educate ourselves and others about hostas. \n\n\n\nThe show competition includes twelve different cut leaf sections\, a container grown division\, trough/container grown gardens\, tri-fecta\, along with educational displays.  \n\n\n\nWe encourage all members to participate. Janet will explain the process at our April meeting and conducting a workshop closer to the show. The show schedule with complete rules and details will be posted later on our website. Check back in April.  \n\n\n\nIf you would like to volunteer to help with the show or have questions about entering leaves in the show\, contact Janet Stultz at 317-446-9718 or jstultz1505@gmail.com 
URL:https://indianapolishostasociety.org/event/monthly-meeting-14/
LOCATION:Carmel Clay Library\, 425 E. Main Street\, Carmel\, IN\, 46032\, United States
CATEGORIES:regular meeting
ATTACH;FMTTYPE=image/jpeg:https://indianapolishostasociety.org/wp-content/uploads/2025/06/IMG_3447-scaled.jpeg
END:VEVENT
END:VCALENDAR