BEGIN:VCALENDAR
VERSION:2.0
PRODID:-//Indianapolis Hosta Society - ECPv6.15.20//NONSGML v1.0//EN
CALSCALE:GREGORIAN
METHOD:PUBLISH
X-ORIGINAL-URL:https://indianapolishostasociety.org
X-WR-CALDESC:Events for Indianapolis Hosta Society
REFRESH-INTERVAL;VALUE=DURATION:PT1H
X-Robots-Tag:noindex
X-PUBLISHED-TTL:PT1H
BEGIN:VTIMEZONE
TZID:America/Indiana/Indianapolis
BEGIN:DAYLIGHT
TZOFFSETFROM:-0500
TZOFFSETTO:-0400
TZNAME:EDT
DTSTART:20240310T070000
END:DAYLIGHT
BEGIN:STANDARD
TZOFFSETFROM:-0400
TZOFFSETTO:-0500
TZNAME:EST
DTSTART:20241103T060000
END:STANDARD
BEGIN:DAYLIGHT
TZOFFSETFROM:-0500
TZOFFSETTO:-0400
TZNAME:EDT
DTSTART:20250309T070000
END:DAYLIGHT
BEGIN:STANDARD
TZOFFSETFROM:-0400
TZOFFSETTO:-0500
TZNAME:EST
DTSTART:20251102T060000
END:STANDARD
BEGIN:DAYLIGHT
TZOFFSETFROM:-0500
TZOFFSETTO:-0400
TZNAME:EDT
DTSTART:20260308T070000
END:DAYLIGHT
BEGIN:STANDARD
TZOFFSETFROM:-0400
TZOFFSETTO:-0500
TZNAME:EST
DTSTART:20261101T060000
END:STANDARD
END:VTIMEZONE
BEGIN:VEVENT
DTSTART;TZID=America/Indiana/Indianapolis:20250310T183000
DTEND;TZID=America/Indiana/Indianapolis:20250310T203000
DTSTAMP:20260424T112140
CREATED:20250310T220002Z
LAST-MODIFIED:20250228T205058Z
UID:875-1741631400-1741638600@indianapolishostasociety.org
SUMMARY:March Monthly Meeting
DESCRIPTION:Tool-Up for Gardening: Top 10 Garden Tools with Steve Cline \n\n\n\n\nSteve is a Marion County Advanced Master Gardener from  the class of 2015. Retired in 2014 after 51 years as a Registered Pharmacist in retail Pharmacy. He is married and has 5 children which have blessed him with 16 grandchildren and 16 great-grandchildren. He currently volunteers at Holiday Park in Indy\, serves as a team leader at the Demonstration Garden at the State Fairgrounds and works at his Church on the Grounds Team taking care of its 81 acre campus . He is an avid collector of garden tools and will be speaking to us today on his “Top 10 Garden Tools” along with other favorites; their proper use\, care and maintenance .
URL:https://indianapolishostasociety.org/event/monthly-meeting-11/
LOCATION:Coxhall Gardens\, Coxhall Gardens 11677 Towne Rd\, Carmel\, 46032\, United States
CATEGORIES:regular meeting
ATTACH;FMTTYPE=image/jpeg:https://indianapolishostasociety.org/wp-content/uploads/2024/11/A-Happy-Steve-with-All-of-His-Tools.jpg
END:VEVENT
END:VCALENDAR